BEGIN:VCALENDAR
VERSION:2.0
PRODID:-//Aykohuis - ECPv6.15.20//NONSGML v1.0//EN
CALSCALE:GREGORIAN
METHOD:PUBLISH
X-WR-CALNAME:Aykohuis
X-ORIGINAL-URL:https://aykohuis.be
X-WR-CALDESC:Events voor Aykohuis
REFRESH-INTERVAL;VALUE=DURATION:PT1H
X-Robots-Tag:noindex
X-PUBLISHED-TTL:PT1H
BEGIN:VTIMEZONE
TZID:Europe/Brussels
BEGIN:DAYLIGHT
TZOFFSETFROM:+0100
TZOFFSETTO:+0200
TZNAME:CEST
DTSTART:20250330T010000
END:DAYLIGHT
BEGIN:STANDARD
TZOFFSETFROM:+0200
TZOFFSETTO:+0100
TZNAME:CET
DTSTART:20251026T010000
END:STANDARD
BEGIN:DAYLIGHT
TZOFFSETFROM:+0100
TZOFFSETTO:+0200
TZNAME:CEST
DTSTART:20260329T010000
END:DAYLIGHT
BEGIN:STANDARD
TZOFFSETFROM:+0200
TZOFFSETTO:+0100
TZNAME:CET
DTSTART:20261025T010000
END:STANDARD
BEGIN:DAYLIGHT
TZOFFSETFROM:+0100
TZOFFSETTO:+0200
TZNAME:CEST
DTSTART:20270328T010000
END:DAYLIGHT
BEGIN:STANDARD
TZOFFSETFROM:+0200
TZOFFSETTO:+0100
TZNAME:CET
DTSTART:20271031T010000
END:STANDARD
END:VTIMEZONE
BEGIN:VEVENT
DTSTART;TZID=Europe/Brussels:20260423T110000
DTEND;TZID=Europe/Brussels:20260423T180000
DTSTAMP:20260423T012654
CREATED:20251113T163033Z
LAST-MODIFIED:20260331T165045Z
UID:56725-1776942000-1776967200@aykohuis.be
SUMMARY:Opstellingsdag 23 april 2026
DESCRIPTION:Dit traject is speciaal ontworpen voor mensen die verder willen verdiepen\, groeien en transformeren tijdens een 6-maanden traject met een 3-daagse retreat\, online sessies en individuele sessies\, zodat je niet stil valt en het oude écht achter jou kan laten.  \n  \n\n\n\n\n\nLEES VIA DE LINK HIERONDER ALLE INFORMATIE OVER DIT TRAJECT  \nBeyond The Journey
URL:https://aykohuis.be/agenda/opstellingsdag-23-april-2026/
LOCATION:Aykohuis\, Poederleesteenweg 86\, Lichtaart
CATEGORIES:Extra
ATTACH;FMTTYPE=image/jpeg:https://aykohuis.be/wp-content/uploads/2025/09/goudenreis6-1.jpg
ORGANIZER;CN="Peter Grard":MAILTO:peter@aykohuis.be
END:VEVENT
END:VCALENDAR